Workbook

Sheet Start here
A1: Cornerstone Hardware · Paybill reconciliation
A2: Demonstration workbook for a fictional shop. All receipts, customers and amounts are synthetic.
A4: Step | B4: What to do
A5: 1 | B5: Paste the month's M-Pesa statement export into the Statement sheet, from row 5.
A6: 2 | B6: Paste open invoices into the Invoices sheet.
A7: 3 | B7: The Match sheet pairs every payment with an invoice by account number and checks the amount.
A8: 4 | B8: Work through the rows marked Check account or Part payment. Everything else is done.

Sheet Summary
A1: September 2026 reconciliation summary
A2: Updates when the statement and invoices are pasted in.
A4: Status | B4: Payments | C4: Amount (KES)
A5: Matched | B5: =COUNTIF(Match!$H$5:$H$68,A5) | C5: =SUMIFS(Match!$B$5:$B$68,Match!$H$5:$H$68,A5)
A6: Part payment | B6: =COUNTIF(Match!$H$5:$H$68,A6) | C6: =SUMIFS(Match!$B$5:$B$68,Match!$H$5:$H$68,A6)
A7: Overpaid | B7: =COUNTIF(Match!$H$5:$H$68,A7) | C7: =SUMIFS(Match!$B$5:$B$68,Match!$H$5:$H$68,A7)
A8: Check account | B8: =COUNTIF(Match!$H$5:$H$68,A8) | C8: =SUMIFS(Match!$B$5:$B$68,Match!$H$5:$H$68,A8)
A9: Total | B9: =SUM(B5:B8) | C9: =SUM(C5:C8)
A11: Matched automatically | B11: =IF(B9=0,0,B5/B9)

Sheet Match
A1: Matched payments
A2: Calculated. Filter Status to work through the exceptions.
A4: Receipt No. | B4: Paid in | C4: Account ref. | D4: Invoice | E4: Customer | F4: Invoice amount | G4: Difference | H4: Status
A5: =Statement!A5 | B5: =Statement!D5 | C5: =Statement!E5 | D5: =IF(Statement!F5<>"",Statement!F5,IFERROR(INDEX(Invoices!$A$5:$A$68,MATCH(C5,Invoices!$C$5:$C$68,0)),"Not found")) | E5: =IFERROR(INDEX(Invoices!$B$5:$B$68,MATCH(D5,Invoices!$A$5:$A$68,0)),"") | F5: =IFERROR(INDEX(Invoices!$E$5:$E$68,MATCH(D5,Invoices!$A$5:$A$68,0)),0) | G5: =B5-F5 | H5: =IF(D5="Not found","Check account",IF(INDEX(Invoices!$C$5:$C$68,MATCH(D5,Invoices!$A$5:$A$68,0))<>C5,"Check account",IF(G5=0,"Matched",IF(G5<0,"Part payment","Overpaid"))))
A6: =Statement!A6 | B6: =Statement!D6 | C6: =Statement!E6 | D6: =IF(Statement!F6<>"",Statement!F6,IFERROR(INDEX(Invoices!$A$5:$A$68,MATCH(C6,Invoices!$C$5:$C$68,0)),"Not found")) | E6: =IFERROR(INDEX(Invoices!$B$5:$B$68,MATCH(D6,Invoices!$A$5:$A$68,0)),"") | F6: =IFERROR(INDEX(Invoices!$E$5:$E$68,MATCH(D6,Invoices!$A$5:$A$68,0)),0) | G6: =B6-F6 | H6: =IF(D6="Not found","Check account",IF(INDEX(Invoices!$C$5:$C$68,MATCH(D6,Invoices!$A$5:$A$68,0))<>C6,"Check account",IF(G6=0,"Matched",IF(G6<0,"Part payment","Overpaid"))))
A7: =Statement!A7 | B7: =Statement!D7 | C7: =Statement!E7 | D7: =IF(Statement!F7<>"",Statement!F7,IFERROR(INDEX(Invoices!$A$5:$A$68,MATCH(C7,Invoices!$C$5:$C$68,0)),"Not found")) | E7: =IFERROR(INDEX(Invoices!$B$5:$B$68,MATCH(D7,Invoices!$A$5:$A$68,0)),"") | F7: =IFERROR(INDEX(Invoices!$E$5:$E$68,MATCH(D7,Invoices!$A$5:$A$68,0)),0) | G7: =B7-F7 | H7: =IF(D7="Not found","Check account",IF(INDEX(Invoices!$C$5:$C$68,MATCH(D7,Invoices!$A$5:$A$68,0))<>C7,"Check account",IF(G7=0,"Matched",IF(G7<0,"Part payment","Overpaid"))))
A8: =Statement!A8 | B8: =Statement!D8 | C8: =Statement!E8 | D8: =IF(Statement!F8<>"",Statement!F8,IFERROR(INDEX(Invoices!$A$5:$A$68,MATCH(C8,Invoices!$C$5:$C$68,0)),"Not found")) | E8: =IFERROR(INDEX(Invoices!$B$5:$B$68,MATCH(D8,Invoices!$A$5:$A$68,0)),"") | F8: =IFERROR(INDEX(Invoices!$E$5:$E$68,MATCH(D8,Invoices!$A$5:$A$68,0)),0) | G8: =B8-F8 | H8: =IF(D8="Not found","Check account",IF(INDEX(Invoices!$C$5:$C$68,MATCH(D8,Invoices!$A$5:$A$68,0))<>C8,"Check account",IF(G8=0,"Matched",IF(G8<0,"Part payment","Overpaid"))))
A9: =Statement!A9 | B9: =Statement!D9 | C9: =Statement!E9 | D9: =IF(Statement!F9<>"",Statement!F9,IFERROR(INDEX(Invoices!$A$5:$A$68,MATCH(C9,Invoices!$C$5:$C$68,0)),"Not found")) | E9: =IFERROR(INDEX(Invoices!$B$5:$B$68,MATCH(D9,Invoices!$A$5:$A$68,0)),"") | F9: =IFERROR(INDEX(Invoices!$E$5:$E$68,MATCH(D9,Invoices!$A$5:$A$68,0)),0) | G9: =B9-F9 | H9: =IF(D9="Not found","Check account",IF(INDEX(Invoices!$C$5:$C$68,MATCH(D9,Invoices!$A$5:$A$68,0))<>C9,"Check account",IF(G9=0,"Matched",IF(G9<0,"Part payment","Overpaid"))))
A10: =Statement!A10 | B10: =Statement!D10 | C10: =Statement!E10 | D10: =IF(Statement!F10<>"",Statement!F10,IFERROR(INDEX(Invoices!$A$5:$A$68,MATCH(C10,Invoices!$C$5:$C$68,0)),"Not found")) | E10: =IFERROR(INDEX(Invoices!$B$5:$B$68,MATCH(D10,Invoices!$A$5:$A$68,0)),"") | F10: =IFERROR(INDEX(Invoices!$E$5:$E$68,MATCH(D10,Invoices!$A$5:$A$68,0)),0) | G10: =B10-F10 | H10: =IF(D10="Not found","Check account",IF(INDEX(Invoices!$C$5:$C$68,MATCH(D10,Invoices!$A$5:$A$68,0))<>C10,"Check account",IF(G10=0,"Matched",IF(G10<0,"Part payment","Overpaid"))))
A11: =Statement!A11 | B11: =Statement!D11 | C11: =Statement!E11 | D11: =IF(Statement!F11<>"",Statement!F11,IFERROR(INDEX(Invoices!$A$5:$A$68,MATCH(C11,Invoices!$C$5:$C$68,0)),"Not found")) | E11: =IFERROR(INDEX(Invoices!$B$5:$B$68,MATCH(D11,Invoices!$A$5:$A$68,0)),"") | F11: =IFERROR(INDEX(Invoices!$E$5:$E$68,MATCH(D11,Invoices!$A$5:$A$68,0)),0) | G11: =B11-F11 | H11: =IF(D11="Not found","Check account",IF(INDEX(Invoices!$C$5:$C$68,MATCH(D11,Invoices!$A$5:$A$68,0))<>C11,"Check account",IF(G11=0,"Matched",IF(G11<0,"Part payment","Overpaid"))))
A12: =Statement!A12 | B12: =Statement!D12 | C12: =Statement!E12 | D12: =IF(Statement!F12<>"",Statement!F12,IFERROR(INDEX(Invoices!$A$5:$A$68,MATCH(C12,Invoices!$C$5:$C$68,0)),"Not found")) | E12: =IFERROR(INDEX(Invoices!$B$5:$B$68,MATCH(D12,Invoices!$A$5:$A$68,0)),"") | F12: =IFERROR(INDEX(Invoices!$E$5:$E$68,MATCH(D12,Invoices!$A$5:$A$68,0)),0) | G12: =B12-F12 | H12: =IF(D12="Not found","Check account",IF(INDEX(Invoices!$C$5:$C$68,MATCH(D12,Invoices!$A$5:$A$68,0))<>C12,"Check account",IF(G12=0,"Matched",IF(G12<0,"Part payment","Overpaid"))))
A13: =Statement!A13 | B13: =Statement!D13 | C13: =Statement!E13 | D13: =IF(Statement!F13<>"",Statement!F13,IFERROR(INDEX(Invoices!$A$5:$A$68,MATCH(C13,Invoices!$C$5:$C$68,0)),"Not found")) | E13: =IFERROR(INDEX(Invoices!$B$5:$B$68,MATCH(D13,Invoices!$A$5:$A$68,0)),"") | F13: =IFERROR(INDEX(Invoices!$E$5:$E$68,MATCH(D13,Invoices!$A$5:$A$68,0)),0) | G13: =B13-F13 | H13: =IF(D13="Not found","Check account",IF(INDEX(Invoices!$C$5:$C$68,MATCH(D13,Invoices!$A$5:$A$68,0))<>C13,"Check account",IF(G13=0,"Matched",IF(G13<0,"Part payment","Overpaid"))))
A14: =Statement!A14 | B14: =Statement!D14 | C14: =Statement!E14 | D14: =IF(Statement!F14<>"",Statement!F14,IFERROR(INDEX(Invoices!$A$5:$A$68,MATCH(C14,Invoices!$C$5:$C$68,0)),"Not found")) | E14: =IFERROR(INDEX(Invoices!$B$5:$B$68,MATCH(D14,Invoices!$A$5:$A$68,0)),"") | F14: =IFERROR(INDEX(Invoices!$E$5:$E$68,MATCH(D14,Invoices!$A$5:$A$68,0)),0) | G14: =B14-F14 | H14: =IF(D14="Not found","Check account",IF(INDEX(Invoices!$C$5:$C$68,MATCH(D14,Invoices!$A$5:$A$68,0))<>C14,"Check account",IF(G14=0,"Matched",IF(G14<0,"Part payment","Overpaid"))))
A15: =Statement!A15 | B15: =Statement!D15 | C15: =Statement!E15 | D15: =IF(Statement!F15<>"",Statement!F15,IFERROR(INDEX(Invoices!$A$5:$A$68,MATCH(C15,Invoices!$C$5:$C$68,0)),"Not found")) | E15: =IFERROR(INDEX(Invoices!$B$5:$B$68,MATCH(D15,Invoices!$A$5:$A$68,0)),"") | F15: =IFERROR(INDEX(Invoices!$E$5:$E$68,MATCH(D15,Invoices!$A$5:$A$68,0)),0) | G15: =B15-F15 | H15: =IF(D15="Not found","Check account",IF(INDEX(Invoices!$C$5:$C$68,MATCH(D15,Invoices!$A$5:$A$68,0))<>C15,"Check account",IF(G15=0,"Matched",IF(G15<0,"Part payment","Overpaid"))))
A16: =Statement!A16 | B16: =Statement!D16 | C16: =Statement!E16 | D16: =IF(Statement!F16<>"",Statement!F16,IFERROR(INDEX(Invoices!$A$5:$A$68,MATCH(C16,Invoices!$C$5:$C$68,0)),"Not found")) | E16: =IFERROR(INDEX(Invoices!$B$5:$B$68,MATCH(D16,Invoices!$A$5:$A$68,0)),"") | F16: =IFERROR(INDEX(Invoices!$E$5:$E$68,MATCH(D16,Invoices!$A$5:$A$68,0)),0) | G16: =B16-F16 | H16: =IF(D16="Not found","Check account",IF(INDEX(Invoices!$C$5:$C$68,MATCH(D16,Invoices!$A$5:$A$68,0))<>C16,"Check account",IF(G16=0,"Matched",IF(G16<0,"Part payment","Overpaid"))))
... A68: =Statement!A68 | B68: =Statement!D68 | C68: =Statement!E68 | D68: =IF(Statement!F68<>"",Statement!F68,IFERROR(INDEX(Invoices!$A$5:$A$68,MATCH(C68,Invoices!$C$5:$C$68,0)),"Not found")) | E68: =IFERROR(INDEX(Invoices!$B$5:$B$68,MATCH(D68,Invoices!$A$5:$A$68,0)),"") | F68: =IFERROR(INDEX(Invoices!$E$5:$E$68,MATCH(D68,Invoices!$A$5:$A$68,0)),0) | G68: =B68-F68 | H68: =IF(D68="Not found","Check account",IF(INDEX(Invoices!$C$5:$C$68,MATCH(D68,Invoices!$A$5:$A$68,0))<>C68,"Check account",IF(G68=0,"Matched",IF(G68<0,"Part payment","Overpaid"))))

Sheet Invoices
A1: Open invoices, September 2026
A2: Exported from the shop's sales system.
A4: Invoice | B4: Customer | C4: Account no. | D4: Invoice date | E4: Amount (KES)
A5: INV-2201 | B5: Kahawa Fundis | C5: CH101 | D5: 46273 | E5: 2400
A6: INV-2202 | B6: Landless Hardware Agents | C6: CH107 | D6: 46286 | E6: 26750
A7: INV-2203 | B7: Ruiru Steelworks | C7: CH104 | D7: 46293 | E7: 8750
A8: INV-2204 | B8: Gatanga Farm Supplies | C8: CH105 | D8: 46284 | E8: 9900
A9: INV-2205 | B9: Gatuanyaga Roofing | C9: CH111 | D9: 46279 | E9: 26750
A10: INV-2206 | B10: Makongeni Glass | C10: CH106 | D10: 46281 | E10: 21000
A11: INV-2207 | B11: Ruiru Steelworks | C11: CH104 | D11: 46278 | E11: 12500
A12: INV-2208 | B12: Kahawa Fundis | C12: CH101 | D12: 46282 | E12: 21000
A13: INV-2209 | B13: Ruiru Steelworks | C13: CH104 | D13: 46288 | E13: 2400
A14: INV-2210 | B14: Ngoliba Agrovet | C14: CH112 | D14: 46269 | E14: 21000
A15: INV-2211 | B15: Gatanga Farm Supplies | C15: CH105 | D15: 46272 | E15: 2400
A16: INV-2212 | B16: Gatuanyaga Roofing | C16: CH111 | D16: 46267 | E16: 9900
... A68: INV-2264 | B68: Landless Hardware Agents | C68: CH107 | D68: 46289 | E68: 9900

Sheet Statement
A1: M-Pesa Paybill statement, September 2026
A2: Paste the statement export here. Columns follow the standard M-Pesa layout.
A4: Receipt No. | B4: Completion time | C4: Details | D4: Paid in | E4: Account ref. | F4: Invoice ref.
A5: SIA7BF3K9S | B5: 46274.412 | C5: Pay Bill from 2547XXXXX419 - KAHAWA FUNDIS | D5: 2400 | E5: CH101 | F5: INV-2201
A6: SIKD0KTTPE | B6: 46287.606 | C6: Pay Bill from 2547XXXXX967 - LANDLESS HARDWARE AGENTS | D6: 26750 | E6: CH107 | F6: INV-2202
A7: SIT30TPLPH | B7: 46296.811 | C7: Pay Bill from 2547XXXXX542 - RUIRU STEELWORKS | D7: 8750 | E7: CH104 | F7: INV-2203
A8: SILFUFZPUV | B8: 46287.603 | C8: Pay Bill from 2547XXXXX552 - GATANGA FARM SUPPLIES | D8: 9900 | E8: CH105 | F8: INV-2204
A9: SIYMECPPLE | B9: 46282.589 | C9: Pay Bill from 2547XXXXX230 - GATUANYAGA ROOFING | D9: 26750 | E9: CH111 | F9: INV-2205
A10: SI82LL5FQ9 | B10: 46284.767 | C10: Pay Bill from 2547XXXXX293 - MAKONGENI GLASS | D10: 21000 | E10: CH106 | F10: INV-2206
A11: SIT7FZBJZK | B11: 46278.414 | C11: Pay Bill from 2547XXXXX730 - RUIRU STEELWORKS | D11: 12500 | E11: CH104 | F11: INV-2207
A12: SIULX0W78N | B12: 46283.313 | C12: Pay Bill from 2547XXXXX580 - KAHAWA FUNDIS | D12: 21000 | E12: CH101 | F12: INV-2208
A13: SI1PUWK3C3 | B13: 46288.614 | C13: Pay Bill from 2547XXXXX836 - RUIRU STEELWORKS | D13: 2400 | E13: CH104 | F13: INV-2209
A14: SIEEUZU2C3 | B14: 46271.5 | C14: Pay Bill from 2547XXXXX469 - NGOLIBA AGROVET | D14: 21000 | E14: CH112 | F14: INV-2210
A15: SICB5T9WHU | B15: 46274.533 | C15: Pay Bill from 2547XXXXX656 - GATANGA FARM SUPPLIES | D15: 2400 | E15: CH105 | F15: INV-2211
A16: SIPREZ3CSB | B16: 46267.297 | C16: Pay Bill from 2547XXXXX667 - GATUANYAGA ROOFING | D16: 9900 | E16: CH111 | F16: INV-2212
A17: SIEX2EAEDH | B17: 46267.606 | C17: Pay Bill from 2547XXXXX689 - MANG'U PAINTS | D17: 1850 | E17: CH114
A18: SIUSV0EZGY | B18: 46274.79 | C18: Pay Bill from 2547XXXXX599 - GATANGA FARM SUPPLIES | D18: 3200 | E18: CH377 | F18: INV-2214
A19: SIRJEDLYUC | B19: 46290.779 | C19: Pay Bill from 2547XXXXX974 - NGOLIBA AGROVET | D19: 33800 | E19: CH112 | F19: INV-2215
A20: SIE8DUXREV | B20: 46277.745 | C20: Pay Bill from 2547XXXXX283 - NGOLIBA AGROVET | D20: 18400 | E20: CH112 | F20: INV-2216
A21: SIQP04WG29 | B21: 46274.611 | C21: Pay Bill from 2547XXXXX434 - MAKONGENI GLASS | D21: 6100 | E21: CH106 | F21: INV-2217
A22: SI5VS8AXT8 | B22: 46277.387 | C22: Pay Bill from 2547XXXXX146 - RUIRU STEELWORKS | D22: 12500 | E22: CH104 | F22: INV-2218
A23: SI9Y3JWMTW | B23: 46296.516 | C23: Pay Bill from 2547XXXXX891 - NGOLIBA AGROVET | D23: 8750 | E23: CH112 | F23: INV-2219
A24: SI2PSBY1FP | B24: 46271.356 | C24: Pay Bill from 2547XXXXX480 - WITEITHIE MASONS | D24: 1850 | E24: CH110
A25: SIB2UL20HV | B25: 46280.808 | C25: Pay Bill from 2547XXXXX772 - MAKONGENI GLASS | D25: 26750 | E25: CH106 | F25: INV-2221
A26: SI5FTQB7T5 | B26: 46290.419 | C26: Pay Bill from 2547XXXXX561 - JUJA CONTRACTORS | D26: 1850 | E26: CH103 | F26: INV-2222
A27: SI91EAVTE9 | B27: 46275.55 | C27: Pay Bill from 2547XXXXX541 - KAHAWA FUNDIS | D27: 9900 | E27: CH101 | F27: INV-2223
A28: SISC3W3QGT | B28: 46289.445 | C28: Pay Bill from 2547XXXXX292 - KALIMONI BUILDERS | D28: 2400 | E28: CH115 | F28: INV-2224
A29: SI1H8D4Y04 | B29: 46288.49 | C29: Pay Bill from 2547XXXXX644 - KALIMONI BUILDERS | D29: 1200 | E29: CH115 | F29: INV-2225
A30: SIT01UELKA | B30: 46290.59 | C30: Pay Bill from 2547XXXXX289 - JUJA CONTRACTORS | D30: 3200 | E30: CH103 | F30: INV-2226
A31: SIJXBLZ54E | B31: 46275.64 | C31: Pay Bill from 2547XXXXX950 - BLUE POST RENOVATIONS | D31: 4750 | E31: CH108 | F31: INV-2227
A32: SI878S1H75 | B32: 46282.565 | C32: Pay Bill from 2547XXXXX653 - GATUANYAGA ROOFING | D32: 2400 | E32: CH111 | F32: INV-2228
A33: SIX23AZZU9 | B33: 46279.522 | C33: Pay Bill from 2547XXXXX295 - WITEITHIE MASONS | D33: 15200 | E33: CH110 | F33: INV-2229
A34: SI78XNE1MS | B34: 46296.585 | C34: Pay Bill from 2547XXXXX895 - KAHAWA FUNDIS | D34: 18400 | E34: CH101 | F34: INV-2230
A35: SIE74S9N2T | B35: 46268.645 | C35: Pay Bill from 2547XXXXX143 - KENOL TILES | D35: 7600 | E35: CH113 | F35: INV-2231
A36: SIEF4LJDPW | B36: 46275.375 | C36: Pay Bill from 2547XXXXX567 - JUJA CONTRACTORS | D36: 8750 | E36: CH353 | F36: INV-2232
... A41: SIJQFLTZJ7 | B41: 46294.592 | C41: Pay Bill from 2547XXXXX590 - JUJA CONTRACTORS | D41: 8750 | E41: CH103 | F41: INV-2237
A42: SI4TSAUQC2 | B42: 46277.424 | C42: Pay Bill from 2547XXXXX385 - GATANGA FARM SUPPLIES | D42: 1850 | E42: CH105
A43: SIVPHVPNXF | B43: 46275.632 | C43: Pay Bill from 2547XXXXX909 - JUJA CONTRACTORS | D43: 2400 | E43: CH103 | F43: INV-2239
A44: SIUX6UUEW0 | B44: 46287.629 | C44: Pay Bill from 2547XXXXX504 - RUIRU STEELWORKS | D44: 18400 | E44: CH104 | F44: INV-2240
A45: SIEJZKBVK1 | B45: 46292.729 | C45: Pay Bill from 2547XXXXX477 - BLUE POST RENOVATIONS | D45: 2400 | E45: CH108 | F45: INV-2241
...
